BEGIN:VCALENDAR
VERSION:2.0
PRODID:-//wp-events-plugin.com//6.4.7.3//EN
BEGIN:VEVENT
UID:94835@vuelaforhealth.org
DTSTART;TZID=America/Denver:20240625T180000
DTEND;TZID=America/Denver:20240625T200000
DTSTAMP:20240430T155341Z
URL:https://www.vuelaforhealth.org/events/dpp-426/
SUMMARY:DPP
DESCRIPTION:Cohort #32 \nIntructoras: Leslie y Nancy \n16 clases/Martes 
 \nconcluye: 20 de agosto de 2024
LOCATION:Daniel C. Vallez Family Education Center\, Daniel C. Vallez Family
  Education Center\,  \, United States
X-APPLE-STRUCTURED-LOCATION;VALUE=URI;X-ADDRESS=Daniel C. Vallez Family Edu
 cation Center\,  \, United States;X-APPLE-RADIUS=100;X-TITLE=Daniel C. Val
 lez Family Education Center:geo:0,0
END:VEVENT
BEGIN:VTIMEZONE
TZID:America/Denver
X-LIC-LOCATION:America/Denver
BEGIN:DAYLIGHT
DTSTART:20240310T030000
TZOFFSETFROM:-0700
TZOFFSETTO:-0600
TZNAME:MDT
END:DAYLIGHT
END:VTIMEZONE
END:VCALENDAR